BEGIN:VCALENDAR
VERSION:2.0
PRODID:-//Cincinnati Veterinary Medical Association - ECPv6.13.2.1//NONSGML v1.0//EN
CALSCALE:GREGORIAN
METHOD:PUBLISH
X-WR-CALNAME:Cincinnati Veterinary Medical Association
X-ORIGINAL-URL:https://cincyvma.com
X-WR-CALDESC:Events for Cincinnati Veterinary Medical Association
REFRESH-INTERVAL;VALUE=DURATION:PT1H
X-Robots-Tag:noindex
X-PUBLISHED-TTL:PT1H
BEGIN:VTIMEZONE
TZID:UTC
BEGIN:STANDARD
TZOFFSETFROM:+0000
TZOFFSETTO:+0000
TZNAME:UTC
DTSTART:20200101T000000
END:STANDARD
END:VTIMEZONE
BEGIN:VEVENT
DTSTART;TZID=UTC:20250128T190000
DTEND;TZID=UTC:20250128T210000
DTSTAMP:20260423T154114
CREATED:20241228T203306Z
LAST-MODIFIED:20250107T225039Z
UID:1548-1738090800-1738098000@cincyvma.com
SUMMARY:Tuesday Night CE - January
DESCRIPTION:Join us for our first CE event of 2025! This event will be held on Tuesday\, January 28th via Zoom. The topic will be surgery – presented by Dr. Steve Mehler. \nThank you to our meeting sponsors Veterinarian Recommended Solutions!
URL:https://cincyvma.com/event/tuesday-night-ce-january-2/
LOCATION:OH
END:VEVENT
BEGIN:VEVENT
DTSTART;TZID=UTC:20241126T190000
DTEND;TZID=UTC:20241126T210000
DTSTAMP:20260423T154114
CREATED:20231215T155516Z
LAST-MODIFIED:20241013T154546Z
UID:1453-1732647600-1732654800@cincyvma.com
SUMMARY:Tuesday Night CE - November
DESCRIPTION:We hope you can join us for our final CE of 2024! \nThis event will take place on Tuesday\, November 26th via Zoom at 7pm. This event is approved for 2 hours of RACE CE credit. \nThis event is also open to RVTs – so please feel free to share this event with your technicians! \nWe will be joined by Monica Morgado\, DVM\, DAVDC as she speaks on “Common Cases in Veterinary Dentistry” and “To Extract or NOT to Extract?” \nEach individual attending must register for this event. Once registered\, a link will be shared with you via email. Please do not share this link – it is personalized to you and is how I record attendance and CE credit. \nTo register for this event\, please click here.
URL:https://cincyvma.com/event/tuesday-night-ce-november/
LOCATION:OH
END:VEVENT
BEGIN:VEVENT
DTSTART;TZID=UTC:20241020T080000
DTEND;TZID=UTC:20241020T153000
DTSTAMP:20260423T154114
CREATED:20240517T140249Z
LAST-MODIFIED:20240628T142233Z
UID:1502-1729411200-1729438200@cincyvma.com
SUMMARY:2024 CVMA Fall Short Course
DESCRIPTION:This event will take place on Sunday\, October 20th from 8:00am to 3:30pm (8:00am will include registration and breakfast\, with the first lecture beginning at 8:30am). This event will take place at the Delta Hotels by Marriott Cincinnati Sharonville (11400 Chester Road\, Cincinnati\, OH 45246). This is the same venue as our May CE event. \nThis year’s event\, “Specialty in Your Own Backyard: Tapping into Local Expertise\,” will welcome local specialists from The Animal Eye Institute\, Advanced Internal Medicine for Pets\, MedVet\, and Care Center. 6 hours of state approved CE credit available. \nThis event is open to all DVMs (both CVMA and non-CVMA members)\, as well as RVTs. \nPlease find the full event flyer and schedule of events here. \nIf you are interested in sponsoring this event\, please see our sponsorship opportunities here. \nSpecial thanks for our sponsors for making this event possible! \n             
URL:https://cincyvma.com/event/2024-cvma-fall-short-course/
LOCATION:Delta Hotels by Marriott Cincinnati Sharonville\, 11400 Chester Road\, Cincinnati\, OH\, 45246\, United States
END:VEVENT
BEGIN:VEVENT
DTSTART;TZID=UTC:20240924T180000
DTEND;TZID=UTC:20240924T210000
DTSTAMP:20260423T154114
CREATED:20231215T155351Z
LAST-MODIFIED:20240628T143438Z
UID:1451-1727200800-1727211600@cincyvma.com
SUMMARY:Tuesday Night CE - September
DESCRIPTION:Please join us for our next in-person CE event taking place on Tuesday\, September 24th at deSha’s. We will be joined by Dr. Kirk Muñoz as he speaks on the topic of Anesthesiology\, “Analgesics – An Overview (focus on opioids and regional blocks) & Managing Anesthetic Related Complications.” \nRegistration for this event to follow. \nThis event is limited to DVMs only. 2 hours of CE credit available. \n  \nThank you to our meeting sponsors:
URL:https://cincyvma.com/event/tuesday-night-ce-september/
LOCATION:deSha’s American Tavern\, 11320 Montgomery Road\, Cincinnati\, OH\, 45249
END:VEVENT
BEGIN:VEVENT
DTSTART;TZID=UTC:20240528T180000
DTEND;TZID=UTC:20240528T210000
DTSTAMP:20260423T154114
CREATED:20231215T155259Z
LAST-MODIFIED:20240416T212935Z
UID:1449-1716919200-1716930000@cincyvma.com
SUMMARY:Tuesday Night CE - May
DESCRIPTION:Join us for our next\, in-person CE event of 2024! This event will take place on Tuesday\, May 28th at the Delta Hotels by Marriott Cincinnati Sharonville (11400 Chester Road\, Cincinnati\, OH 45246). The event will begin at 7pm\, but you are encouraged to arrive between 6pm and 6:30pm to register. Dinner will be served at 6:30pm before the lecture begins. \nWe will be joined by Dr. Jacob Mathias as he speaks on “Librela and Solensia: Don’t You Just Have A Shot for This?” \nThis event is open to CVMA members\, as well as non-members. Non-members will be required to pay a $40.00 meeting fee in order to attend. 2 hours of CE credit available. \nDue to the deadline to submit our numbers for catering – and the holiday – registration will close on Tuesday\, May 21st. PLEASE register before then. \nSpecial thanks to our meeting sponsors\, Zoetis\, for their support of this event!
URL:https://cincyvma.com/event/tuesday-night-ce-may/
LOCATION:Delta Hotels by Marriott Cincinnati Sharonville\, 11400 Chester Road\, Cincinnati\, OH\, 45246\, United States
END:VEVENT
BEGIN:VEVENT
DTSTART;TZID=UTC:20240326T180000
DTEND;TZID=UTC:20240326T210000
DTSTAMP:20260423T154114
CREATED:20231215T155147Z
LAST-MODIFIED:20240212T231834Z
UID:1446-1711476000-1711486800@cincyvma.com
SUMMARY:Tuesday Night CE - March
DESCRIPTION:Join us for our March 26th CE Event! \nThe CE lecture will begin at 7pm – you are encouraged to arrive between 6pm and 6:30pm to mingle and enjoy appetizers prior to the start of the meeting at 7pm. \nWhere: Montgomery Inn (9440 Montgomery Road\, Cincinnati\, OH 45242) \nWe will be joined by Cardiologist\, Dr. Audrey Restle of Care Center. \nRegistration for this event is required. Please remember to register for this event before March 20th to secure your spot! \nTo register for this event\, click here! \n2 hours of state-approved CE. This event is reserved for CVMA members only.
URL:https://cincyvma.com/event/tuesday-night-ce-march/
LOCATION:Montgomery Inn\, 9440 Montgomery Road\, Cincinnati\, Ohio\, 45242
END:VEVENT
BEGIN:VEVENT
DTSTART;TZID=UTC:20240123T190000
DTEND;TZID=UTC:20240123T210000
DTSTAMP:20260423T154114
CREATED:20231215T155029Z
LAST-MODIFIED:20240114T130826Z
UID:1444-1706036400-1706043600@cincyvma.com
SUMMARY:Tuesday Night CE - January
DESCRIPTION:Please join us for CVMA’s first CE of 2024! \nMelanie Linn\, BVM&S\, MRCVS\, DACVR-RO will be speaking on “Oral Tumors: Taking a Bite Out of their Behavior and Treatment Options” and “Radiation and Beyond: Treating More than Just Cancer.” \nRegister here!
URL:https://cincyvma.com/event/tuesday-night-ce-january/
LOCATION:OH
END:VEVENT
BEGIN:VEVENT
DTSTART;TZID=UTC:20231022T080000
DTEND;TZID=UTC:20231022T150000
DTSTAMP:20260423T154114
CREATED:20230814T204106Z
LAST-MODIFIED:20230817T213204Z
UID:1412-1697961600-1697986800@cincyvma.com
SUMMARY:2023 Fall Short Course
DESCRIPTION:Join us for the 2023 CVMA Fall Short Course on Sunday\, October 22nd\, from 8am to 3pm (8am will include registration and breakfast\, with the first lecture beginning at 9am). We will be joined by Dr. Stephen J. Birchard as he speaks on “Gastrointestinal Surgery\, Things That Hang Out of Dog and Cat Butts\, and an Arrow Through the Heart.” 5 hours of state approved CE credit available. \nThis event is open to all DVMs (both CVMA and non-CVMA members)\, as well as RVTs. \nSchedule of Events \n8:00am – 9:00am: Welcome\, registration\, light breakfast provided \n9:00am – 10:00am: Gastric Surgery from Inside to Outside \n10:00am – 11:00am: Gastric Dilatation/Volvulus: Practical Gastropexies that Work! \n11:00am – 12:00pm: Taking the Fear Out of Intestinal Surgery \n12:00pm – 1:00pm: Lunch provided \n1:00pm – 2:00pm: Things That Hang Out of Dog and Cat Butts \n2:00pm – 3:00pm: Challenging Cases in Small Animal Surgery \nPricing \nDVM\, CVMA Member: $100.00\nDVM\, Non-CVMA Member: $150.00\nRVT: $50.00
URL:https://cincyvma.com/event/2023-fall-short-course/
LOCATION:Little Miami Brewing Company Event Center\, 310 Mill St\, Milford\, OH\, 45150\, United States
END:VEVENT
BEGIN:VEVENT
DTSTART;TZID=UTC:20230926T180000
DTEND;TZID=UTC:20230926T210000
DTSTAMP:20260423T154114
CREATED:20230806T225449Z
LAST-MODIFIED:20230806T225725Z
UID:1405-1695751200-1695762000@cincyvma.com
SUMMARY:Tuesday Night CE – September – Hospice Care
DESCRIPTION:Please join us for our next IN-PERSON CE event taking place on Tuesday\, September 26th at the Cincinnati Club. The event will begin at 6:00pm for a happy hour with heavy appetizers served. Dinner will be served at 7:00pm when the lecture begins. Registration for this event closes on September 15th. We will be joined by Dr. Mary Gardner as she speaks on the topic of hospice care. \nThis event is reserved for CVMA members only. 2 hrs. state-approved CE credit. \nThank you to our meeting sponsors Lap of Love and Faithful Companion!
URL:https://cincyvma.com/event/tuesday-night-ce-september-hospice-care/
LOCATION:Cincinnati Club\, 30 Garfield Pl\, OH\, 45202\, United States
END:VEVENT
BEGIN:VEVENT
DTSTART;TZID=UTC:20230523T190000
DTEND;TZID=UTC:20230523T210000
DTSTAMP:20260423T154114
CREATED:20230423T120710Z
LAST-MODIFIED:20230423T120710Z
UID:1392-1684868400-1684875600@cincyvma.com
SUMMARY:Tuesday Night CE - May - Pain Management
DESCRIPTION:Please join us for our next IN-PERSON CE event taking place on Tuesday\, May 23rd at Little Miami Brewing Company. Registration for this event closes on May 17th. We will be joined by Dr. Sheliah Robertson as she speaks on the topic of Pain Management. \nThis event is limited to CVMA members only. 2 hours of state-approved CE credit available.
URL:https://cincyvma.com/event/tuesday-night-ce-may-pain-management/
LOCATION:Little Miami Brewing Company\, 208 Mill St #1\, Milford\, OH\, 45150\, United States
END:VEVENT
BEGIN:VEVENT
DTSTART;TZID=UTC:20230328T190000
DTEND;TZID=UTC:20230328T210000
DTSTAMP:20260423T154114
CREATED:20230223T000036Z
LAST-MODIFIED:20230309T142614Z
UID:1382-1680030000-1680037200@cincyvma.com
SUMMARY:Tuesday Night CE - March - Anesthesiology
DESCRIPTION:Please join us for our next IN-PERSON CE event taking place on Tuesday\, March 28th at Mill Race Banquet Center at Winton Woods Golf Course. Registration for this event closes on Monday\, March 20th. We will be joined by Dr. Becky Johnson as she speaks on the topic of Anesthesiology. \nThis event is limited to CVMA members only. 2 hours of state-approved CE credit available.
URL:https://cincyvma.com/event/tuesday-night-ce-march-anesthesiology/
LOCATION:The Mill Race Banquet Center at Winton Woods Golf Course\, 1515 W. Sharon Road\, Cincinnati\, OH\, 45240\, United States
END:VEVENT
BEGIN:VEVENT
DTSTART;TZID=UTC:20230124T190000
DTEND;TZID=UTC:20230124T210000
DTSTAMP:20260423T154114
CREATED:20221229T233632Z
LAST-MODIFIED:20221229T233632Z
UID:1373-1674586800-1674594000@cincyvma.com
SUMMARY:Tuesday Night CE - January - Radiology
DESCRIPTION:Please join us for our first CE event of 2023! \nThis event will take place virtually via Zoom on Tuesday\, January 24th at 7:00pm. \nWe will be joined by Jean K. Reichle\, DVM\, MS\, Dipl. ACVR\, as she speaks on “Radiographic Review of the Thorax” and “Is My Patient Obstructed?”
URL:https://cincyvma.com/event/tuesday-night-ce-january-radiology/
LOCATION:OH
END:VEVENT
BEGIN:VEVENT
DTSTART;TZID=UTC:20221106T080000
DTEND;TZID=UTC:20221106T140000
DTSTAMP:20260423T154114
CREATED:20220809T200910Z
LAST-MODIFIED:20220809T200910Z
UID:1332-1667721600-1667743200@cincyvma.com
SUMMARY:2022 CVMA Fall Short Course
DESCRIPTION:Join us for the 2022 CVMA Fall Short Course on Sunday\, November 6th from 8:00am-2:00pm\, with an optional course beginning at 2:00pm. \nWe will be joined by Kate Baker\, DVM\, MS\, DACVP (Clinical Pathology)\, to learn about The Cytology Team: Maximizing Use and Benefit of Cytology in Your Clinical Practice.
URL:https://cincyvma.com/event/2022-cvma-fall-short-course/
LOCATION:The Summit Hotel\, 5345 Medpace Way\, Cincinnati\, OH\, 45227\, United States
END:VEVENT
BEGIN:VEVENT
DTSTART;TZID=UTC:20221002T100000
DTEND;TZID=UTC:20221002T170000
DTSTAMP:20260423T154114
CREATED:20220826T194957Z
LAST-MODIFIED:20220826T195237Z
UID:1342-1664704800-1664730000@cincyvma.com
SUMMARY:CVMA Day at the Cincinnati Zoo
DESCRIPTION:The CVMA Invites you and your Families to CVMA Day at the Cincinnati Zoo! \nFEATURING A PRIVATE CHEETAH RUN!! \nWHEN: SUNDAY\, OCTOBER 2\, 2022 \nZOO OPEN FROM 10 AM to 5 PM \n*CHEETAH RUN WILL BE AT 2 PM* \nPRIVATE SHELTER WILL BE AVAILABLE FOR CVMA MEMBERS TO MINGLE FROM 2:30-5:00 PM \nIN ADDITION\, ADMISSION AND PARKING WILL BE INCLUDED AND EACH MEMBER OF YOUR PARTY WILL RECEIVE $20 IN ZOOBUCKS TO SPEND ON FOOD\, DRINKS\, OR SOUVENIRS \nPLEASE RSVP WITH NUMBER OF PEOPLE ATTEDNING AND IF YOU ARE A CINCINNATI ZOO MEMBER TO EMILY EILERS AT eeilersdvm@fuse.net BY MONDAY\, SEPTEMBER 12th.
URL:https://cincyvma.com/event/cvma-day-at-the-cincinnati-zoo/
LOCATION:Cincinnati Zoo and Botanical Garden\, 3400 Vine Street\, Cincinnati\, OH\, 45220\, United States
END:VEVENT
BEGIN:VEVENT
DTSTART;TZID=UTC:20220925T100000
DTEND;TZID=UTC:20220925T150000
DTSTAMP:20260423T154114
CREATED:20220826T200043Z
LAST-MODIFIED:20220826T200832Z
UID:1346-1664100000-1664118000@cincyvma.com
SUMMARY:2022 CVMA Canoe Trip
DESCRIPTION:What: CVMA Annual Canoe trip \nWhen: 10am\, Sunday September 25th \nWhere: Scenic River Canoe \nWe will start canoeing at 10am\, leaving from Scenic River Canoe. About halfway through\, we will take a little snack/drink break at Little Miami Brewing Company. \nIf you are interested in attending\, please email Dr. Susanna Schwartz at susanna.schwartz@medvet.com. \nPlease reserve your kayak at Scenic River Canoe.
URL:https://cincyvma.com/event/2022-cvma-canoe-trip/
LOCATION:Scenic River Canoe\, 4595 Round Bottom Road\, Cincinnati\, OH\, 45244\, United States
END:VEVENT
BEGIN:VEVENT
DTSTART;TZID=UTC:20220920T183000
DTEND;TZID=UTC:20220920T210000
DTSTAMP:20260423T154114
CREATED:20220803T201910Z
LAST-MODIFIED:20220803T201910Z
UID:1330-1663698600-1663707600@cincyvma.com
SUMMARY:Tuesday Night CE: Presented by OSU
DESCRIPTION:Join us for our next CE event taking place on Tuesday\, September 20th at Maggiano’s Little Italy. \nDr. Adam Rudinsky will present both “How to Help Diarrhea: Food Allergy vs. Food Intolerance” and “Antibiotics\, Prebiotics\, Probiotics and Poop: Managing the Gut Biome.” \nTO REGISTER FOR THIS EVENT\, PLEASE VISIT: https://vet.osu.edu/node/10628 \nThank you to OSU and Purina for their generous sponsorship of this event!
URL:https://cincyvma.com/event/tuesday-night-ce-presented-by-osu/
LOCATION:Maggiano’s\, 7875 Montgomery Rd.\, Cincinnati\, OH\, 45236\, United States
END:VEVENT
BEGIN:VEVENT
DTSTART;TZID=UTC:20220303T190000
DTEND;TZID=UTC:20220303T210000
DTSTAMP:20260423T154114
CREATED:20220202T015954Z
LAST-MODIFIED:20220202T015954Z
UID:1281-1646334000-1646341200@cincyvma.com
SUMMARY:THURSDAY Night CE
DESCRIPTION:Please see below information regarding our next IN-PERSON CE event taking place on THURSDAY\, March 3rd at 7pm.\n\nSpeaker: Jamie A. Berning DVM\, DAVDC (we are welcoming Dr. Berning back after her lecture in 2021)\nTopic: Dentistry\nWhere: Eddie Merlot’s Prime Aged Beef & Seafood Cincinnati (10808 Montgomery Road\, Cincinnati\, OH 45242)\n\nRegistration deadline for this event is Monday\, February 14th.
URL:https://cincyvma.com/event/thursday-night-ce/
LOCATION:Eddie Merlot’s\, 10808 Montgomery Rd.\, Cincinnati\, OH\, 45242\, United States
END:VEVENT
BEGIN:VEVENT
DTSTART;TZID=UTC:20220125T190000
DTEND;TZID=UTC:20220125T210000
DTSTAMP:20260423T154114
CREATED:20220108T013543Z
LAST-MODIFIED:20220108T013555Z
UID:1271-1643137200-1643144400@cincyvma.com
SUMMARY:Tuesday Night CE - January - Amnion Based Therapies
DESCRIPTION:Join us for our first CE of 2022! \nWhen: Tuesday\, January 25th\, 7pm – 9pm \nWhere: Zoom \nSpeaker: Brandon Ames\, CEO\, AniCell Biotech \nTopic: Amnion FAQ: Top 10 Things You Should Know About the Latest in Regenerative Treatments for Animals. \nA special thanks to our meeting sponsors:
URL:https://cincyvma.com/event/tuesday-night-ce-january-amnion-based-therapies/
LOCATION:OH
END:VEVENT
BEGIN:VEVENT
DTSTART;TZID=UTC:20211116T190000
DTEND;TZID=UTC:20211116T210000
DTSTAMP:20260423T154114
CREATED:20210122T211044Z
LAST-MODIFIED:20210122T212932Z
UID:1109-1637089200-1637096400@cincyvma.com
SUMMARY:Tuesday Night CE - November - Dermatology
DESCRIPTION:Save the date and join us for a CE event on Tuesday\, November 16th\, from 7pm-9pm. \nSpeaker: TBD\nTopic: Dermatology\nLocation: TBD \nA special thanks to our sponsors\, Dechra and OSU\, for their support of this event!
URL:https://cincyvma.com/event/tuesday-night-ce-november-dermatology/
LOCATION:OH
END:VEVENT
BEGIN:VEVENT
DTSTART;TZID=UTC:20211024T090000
DTEND;TZID=UTC:20211024T140000
DTSTAMP:20260423T154114
CREATED:20210801T154754Z
LAST-MODIFIED:20210915T203602Z
UID:1208-1635066000-1635084000@cincyvma.com
SUMMARY:2021 Fall Short Course
DESCRIPTION:Please join us do our 2021 Fall Short Course on Sunday\, October 24th from 9:00am to 2:00pm. This will be a virtual event. \nSpeaker: David Bruyette\, DVM\, DACVIM \nTopics: Polyuria and Polydipsia; Canine Hyperadrenocorticism; and Emerging Feline Endocrine Disease \n  \nSponsored by: \n \n 
URL:https://cincyvma.com/event/fall-short-course-save-the-date/
LOCATION:OH
END:VEVENT
BEGIN:VEVENT
DTSTART;TZID=UTC:20210928T190000
DTEND;TZID=UTC:20210928T210000
DTSTAMP:20260423T154114
CREATED:20210122T210911Z
LAST-MODIFIED:20210801T151007Z
UID:1106-1632855600-1632862800@cincyvma.com
SUMMARY:Tuesday Night CE - September -  Eliminating the Challenges of Pet Parasite Prevention
DESCRIPTION:Save the date and join us for a CE event on Tuesday\, September 28th\, from 7pm-8pm. 1 hour RACE approved CE. \nSpeaker: Cory D. Penn\, DVM – Global Diagnostic Medical Lead – Diagnostic Platforms\nTopic: A Guide to Giardiasis: When to Test and When to Treat\nLocation: Webinar via Zoom \nClick here to register for this event! \nA special thanks to our sponsor\, Zoetis\, for their support of this event!
URL:https://cincyvma.com/event/tuesday-night-ce-september-feline-and-canine-osteoarthritis/
LOCATION:OH
END:VEVENT
BEGIN:VEVENT
DTSTART;TZID=UTC:20210525T190000
DTEND;TZID=UTC:20210525T210000
DTSTAMP:20260423T154114
CREATED:20210122T210456Z
LAST-MODIFIED:20210410T002103Z
UID:1096-1621969200-1621976400@cincyvma.com
SUMMARY:Virtual CE - May - Urinalysis and Culture Interpretations
DESCRIPTION:Save the date and join us for a virtual CE event on Tuesday\, May 25th\, from 7pm-9pm. \nSpeaker: William Saxon\, DVM\, DACVIM\, DACVECC\nTopic: “Urine Luck” – There is an easy button for the Difficult Urine Sediment Analysis\nLocation: Webinar \nA special thanks to our sponsor\, Idexx Labroratories\, for their support of this event!
URL:https://cincyvma.com/event/virtual-ce-may-urinalysis-and-culture-interpretations/
LOCATION:OH
END:VEVENT
BEGIN:VEVENT
DTSTART;TZID=UTC:20210427T190000
DTEND;TZID=UTC:20210427T200000
DTSTAMP:20260423T154114
CREATED:20210410T001824Z
LAST-MODIFIED:20210410T001934Z
UID:1161-1619550000-1619553600@cincyvma.com
SUMMARY:Virtual CE - April - House Bill 33: Animal Abuse Recognition & Mandatory Reporting
DESCRIPTION:Please join us for CVMA’s next virtual CE event! This event is open to all CVMA members\, non-members\, as well as veterinary technicians. Please join us as we hear from OVMA Executive Director\, Jack Advent\, CAE\, on “House Bill 33: Animal Abuse Recognition & Mandatory Reporting.” 1 hour CE credit.
URL:https://cincyvma.com/event/virtual-ce-april-house-bill-33-animal-abuse-recognition-mandatory-reporting/
LOCATION:OH
END:VEVENT
BEGIN:VEVENT
DTSTART;TZID=UTC:20210323T190000
DTEND;TZID=UTC:20210323T210000
DTSTAMP:20260423T154114
CREATED:20210122T210133Z
LAST-MODIFIED:20210309T003534Z
UID:1094-1616526000-1616533200@cincyvma.com
SUMMARY:Virtual CE - March 23rd - Behavior
DESCRIPTION:Join us for our next CE event on Tuesday\, March 23rd\, from 7pm-9pm! \nSpeaker: Amy Pike\, DVM\, DACVB\nTopic: Behavior\nLocation: Webinar via Zoom \nA special thanks to our sponsor\, PRN Pharmacal\, for their support of this event!
URL:https://cincyvma.com/event/virtual-ce-march-behavior/
LOCATION:OH
END:VEVENT
BEGIN:VEVENT
DTSTART;TZID=UTC:20210126T190000
DTEND;TZID=UTC:20210126T210000
DTSTAMP:20260423T154114
CREATED:20210122T205525Z
LAST-MODIFIED:20210122T213009Z
UID:1091-1611687600-1611694800@cincyvma.com
SUMMARY:Virtual CE - January 26th - Dentistry
DESCRIPTION:Please join us for CVMA’s first CE of 2021 on Tuesday\, January 26th\, from 7pm-9pm. \nSpeaker: Jamie Berning\, DVM\, DAVDC\nTopic: Dentistry\, “Extractions in Dogs and Cats: Indications and Techniques”\nLocation: Webinar via Zoom (you will receive a link to join the webinar after you have registered) \nA special thanks to our sponsor\, The UC Foundation\, for their support of this event!
URL:https://cincyvma.com/event/january-ce/
LOCATION:OH
END:VEVENT
BEGIN:VEVENT
DTSTART;TZID=UTC:20201020T190000
DTEND;TZID=UTC:20201020T210000
DTSTAMP:20260423T154114
CREATED:20200910T173213Z
LAST-MODIFIED:20210122T205222Z
UID:1041-1603220400-1603227600@cincyvma.com
SUMMARY:Tuesday Night CE
DESCRIPTION:In place of our September 22nd meeting\, a virtual CE meeting will take place in October. \nTopic: Anesthesia \nWhen: Tuesday\, October 20th \nStay tuned for more details regarding registration for this event and a link for joining the meeting. \n  \nThank you to our sponsors\, OSU\, for hosting this meeting!
URL:https://cincyvma.com/event/tuesday-night-ce-11/
LOCATION:OH
END:VEVENT
BEGIN:VEVENT
DTSTART;TZID=UTC:20200922T181500
DTEND;TZID=UTC:20200922T210000
DTSTAMP:20260423T154114
CREATED:20200511T150703Z
LAST-MODIFIED:20200910T172946Z
UID:1012-1600798500-1600808400@cincyvma.com
SUMMARY:Tuesday Night CE - CANCELLED
DESCRIPTION:Unfortunately\, due to the parameters put in place because of COVID-19\, our September 22nd CE has been postponed until further notice. We apologize for any inconvenience this may cause you. We will keep you updated as we plan to reschedule this event for a future date.
URL:https://cincyvma.com/event/tuesday-night-ce-10/
LOCATION:Montgomery Inn Boathouse\, 925 Riverside Dr.\, Cincinnati\, OH\, 45202\, United States
END:VEVENT
BEGIN:VEVENT
DTSTART;TZID=UTC:20200519T181500
DTEND;TZID=UTC:20200519T210000
DTSTAMP:20260423T154114
CREATED:20200104T020024Z
LAST-MODIFIED:20200422T180209Z
UID:969-1589912100-1589922000@cincyvma.com
SUMMARY:Tuesday Night CE - CANCELLED
DESCRIPTION:Unfortunately\, due to the parameters put in place because of COVID-19\, our May 19th CE has been postponed until further notice. We apologize for any inconvenience this may cause you. We will keep you updated as we plan to reschedule this event for a future date.
URL:https://cincyvma.com/event/tuesday-night-ce-9/
LOCATION:OH
END:VEVENT
BEGIN:VEVENT
DTSTART;TZID=UTC:20200324T181500
DTEND;TZID=UTC:20200324T210000
DTSTAMP:20260423T154114
CREATED:20200104T015732Z
LAST-MODIFIED:20200312T223847Z
UID:967-1585073700-1585083600@cincyvma.com
SUMMARY:Tuesday Night CE - CANCELLED!
DESCRIPTION:Unfortunately\, due to the recent parameters put in place because of the Coronavirus\, our March 24th CE at Rhinegeist Brewery has been postponed until further notice. We apologize for any inconvenience this may cause you. We will keep you updated as we plan to reschedule this event for a future date.
URL:https://cincyvma.com/event/tuesday-night-ce-8/
LOCATION:Rhinegeist Brewing\, 1910 Elm St.\, Cincinnati\, 45202\, United States
END:VEVENT
BEGIN:VEVENT
DTSTART;TZID=UTC:20200128T181500
DTEND;TZID=UTC:20200128T210000
DTSTAMP:20260423T154114
CREATED:20191217T173637Z
LAST-MODIFIED:20191217T173637Z
UID:943-1580235300-1580245200@cincyvma.com
SUMMARY:Tuesday Night CE
DESCRIPTION:Join us for the first CE of 2020 on Tuesday January 28th! Hear from Michael D. Lucroy\, DVM\, MS\, DACVIM (Oncology)\, as he speaks on “Immuno-Oncology in Veterinary Practice: Awakening the Force Within.” The event will take place at Braxton Brewing Company. Dinner will be provided. \n  \nEvent is limited to current CVMA members\, DVMs. (2.0 CE Hours Available)
URL:https://cincyvma.com/event/tuesday-night-ce-7/
LOCATION:Braxton Brewing Company\, 27 W 7th St\, Covington\, KY\, 41011\, United States
END:VEVENT
END:VCALENDAR