BEGIN:VCALENDAR
VERSION:2.0
PRODID:-//Cincinnati Veterinary Medical Association - ECPv6.13.2.1//NONSGML v1.0//EN
CALSCALE:GREGORIAN
METHOD:PUBLISH
X-ORIGINAL-URL:https://cincyvma.com
X-WR-CALDESC:Events for Cincinnati Veterinary Medical Association
REFRESH-INTERVAL;VALUE=DURATION:PT1H
X-Robots-Tag:noindex
X-PUBLISHED-TTL:PT1H
BEGIN:VTIMEZONE
TZID:UTC
BEGIN:STANDARD
TZOFFSETFROM:+0000
TZOFFSETTO:+0000
TZNAME:UTC
DTSTART:20150101T000000
END:STANDARD
END:VTIMEZONE
BEGIN:VTIMEZONE
TZID:America/New_York
BEGIN:DAYLIGHT
TZOFFSETFROM:-0500
TZOFFSETTO:-0400
TZNAME:EDT
DTSTART:20160313T070000
END:DAYLIGHT
BEGIN:STANDARD
TZOFFSETFROM:-0400
TZOFFSETTO:-0500
TZNAME:EST
DTSTART:20161106T060000
END:STANDARD
END:VTIMEZONE
BEGIN:VTIMEZONE
TZID:UTC
BEGIN:STANDARD
TZOFFSETFROM:+0000
TZOFFSETTO:+0000
TZNAME:UTC
DTSTART:20150101T000000
END:STANDARD
END:VTIMEZONE
BEGIN:VEVENT
DTSTART;TZID=UTC:20180925T181500
DTEND;TZID=UTC:20180925T210000
DTSTAMP:20260424T031115
CREATED:20180816T194129Z
LAST-MODIFIED:20180816T194919Z
UID:649-1537899300-1537909200@cincyvma.com
SUMMARY:September 25\, 2018
DESCRIPTION:Join us to hear from Annette Litster\, who will discuss two topics: \nTitle: Lyme Disease: A Growing Concern \nDescription: This presentation will briefly review the epidemiology\, risk factors and local prevalence of Lyme disease in dogs. Interpretation of initial screening and diagnostic testing\, and case management strategies based on screening/diagnostic and clinical features will be discussed. A practical guide to disease control\, including recently published information on vaccination and tick control will be presented. \nTitle: Canine Leptospirosis: Prime Suspect \nDescription: This presentation will briefly review the epidemiology\, risk factors and prevalence of leptospirosis in dogs. Information on clinical management\, including clinical signs\, diagnostics\, treatment and prognosis will be presented. Management of the zoonotic aspects of leptospirosis will also be discussed. A practical guide to disease control will be explained\, and there will be an emphasis on recently published peer-reviewed information. \nMany thanks to \n \nfor sponsoring this month’s CE event! \nEvent is limited to DVMs. (2.0 CE Hours Available) \n 
URL:https://cincyvma.com/event/september-25-2018/
LOCATION:The Phoenix Hotel\, 812 Race St.\, Cincinnati\, OH\, 45202\, United States
END:VEVENT
BEGIN:VEVENT
DTSTART;TZID=UTC:20180529T181500
DTEND;TZID=UTC:20180529T210000
DTSTAMP:20260424T031115
CREATED:20180422T154520Z
LAST-MODIFIED:20180422T154605Z
UID:620-1527617700-1527627600@cincyvma.com
SUMMARY:Tom Klein\, DVM--Topics in Dentistry
DESCRIPTION:
URL:https://cincyvma.com/event/may-29-2108/
LOCATION:Meritage\, 40 Village Square\, Cincinnati\, 45246\, United States
END:VEVENT
BEGIN:VEVENT
DTSTART;TZID=UTC:20180327T181500
DTEND;TZID=UTC:20180327T203000
DTSTAMP:20260424T031115
CREATED:20180221T013241Z
LAST-MODIFIED:20180221T013509Z
UID:599-1522174500-1522182600@cincyvma.com
SUMMARY:Atopy: What’s New in Diagnosis\, Pathogenesis and Treatment
DESCRIPTION:Join us to hear from Dawn Logas\, DVM\, DACVD\, who will discuss atopy. This month’s venue is Rhinegeist Brewery in Over the Rhine.  Event is limited to DVMs.  (1.5 CE Hours Available) \n\nValet parking is available at no charge to you and your first 2 drinks are on CVMA!\nSpecial thanks to Bayer Animal Health for their speaker sponsorship!
URL:https://cincyvma.com/event/march/
LOCATION:Rhinegeist Brewing\, 1910 Elm St.\, Cincinnati\, 45202\, United States
CATEGORIES:Continuing Education
END:VEVENT
BEGIN:VEVENT
DTSTART;TZID=UTC:20180123T181500
DTEND;TZID=UTC:20180123T210000
DTSTAMP:20260424T031115
CREATED:20180102T194820Z
LAST-MODIFIED:20180102T194820Z
UID:556-1516731300-1516741200@cincyvma.com
SUMMARY:January 23\, 2018
DESCRIPTION:Join us to hear from local expert Eric Rowe\, DVM\, DACVS\, who will discuss minor surgical procedures. This month’s venue is Fretboard Brewing Company in Blue Ash. Join us for great BBQ\, craft beers\, and great CE! Registration opens at 6:15 pm\, dinner is at 6:45\, & lecture from 7-9 pm. Event is limited to DVMs.
URL:https://cincyvma.com/event/january-23-2018/
LOCATION:Fretboard Brewing Company\, 5800 Creek Rd\, Cincinnati \, OH\, 45242\, United States
END:VEVENT
BEGIN:VEVENT
DTSTART;TZID=UTC:20171128T181500
DTEND;TZID=UTC:20171128T210000
DTSTAMP:20260424T031115
CREATED:20170422T204548Z
LAST-MODIFIED:20170916T183558Z
UID:512-1511892900-1511902800@cincyvma.com
SUMMARY:Seizures:  Diagnosis and Management  (2 CE)
DESCRIPTION:Join us to hear from Meghan Slanina who will discuss Seizures:  Diagnosis and Management. We will meet up at the beautiful Voice of America Park’s Lakeview Room. Registration opens at 6:15 pm\, dinner is at 6:45\, & lecture from 7-9 pm. Event is limited to DVMs.
URL:https://cincyvma.com/event/topics-in-neurology-2-ce/
LOCATION:Voice of America Park–Ronald Reagan Lodge-Lakeview Room\, 7850 VOA Park Drive\, West Chester\, 45069\, United States
END:VEVENT
BEGIN:VEVENT
DTSTART;TZID=UTC:20171029T080000
DTEND;TZID=UTC:20171029T160000
DTSTAMP:20260424T031115
CREATED:20170828T231050Z
LAST-MODIFIED:20171020T001622Z
UID:544-1509264000-1509292800@cincyvma.com
SUMMARY:2017 CVMA Fall Short Course
DESCRIPTION:Click here to view the schedule\, speaker bios and other details!
URL:https://cincyvma.com/event/2017-cvma-fall-short-course/
LOCATION:Cooper Creek Event Center\, 4040 Cooper Rd.\, Blue Ash\, 45241\, United States
CATEGORIES:Continuing Education
END:VEVENT
BEGIN:VEVENT
DTSTART;TZID=UTC:20170926T181500
DTEND;TZID=UTC:20170926T210000
DTSTAMP:20260424T031115
CREATED:20170418T012650Z
LAST-MODIFIED:20170823T010428Z
UID:505-1506449700-1506459600@cincyvma.com
SUMMARY:Consensus on the Use of Gastroprotectants in Dogs and Cats (2 CE)
DESCRIPTION:Join us to hear from Katie Tolbert\, DVM\, PHD\, DACVIM\, who will discuss topics in internal medicine\, including use of antacids. We will meet up at the Mad Tree Brewery in Oakley. Registration opens at 6:15 pm\, dinner is at 6:45\, & lecture from 7-9 pm. Event is limited to DVMs. \nSponsored by Hill’s Pet Nutrition
URL:https://cincyvma.com/event/topics-in-internal-medicine-incl-the-use-of-antacids-2-ce/
LOCATION:Mad Tree Brewing Company\, 3301 Madison Rd.\, Cincinnati\, OH\, 45209\, United States
END:VEVENT
BEGIN:VEVENT
DTSTART;TZID=UTC:20170523T181500
DTEND;TZID=UTC:20170523T210000
DTSTAMP:20260424T031115
CREATED:20170418T005019Z
LAST-MODIFIED:20170418T005115Z
UID:499-1495563300-1495573200@cincyvma.com
SUMMARY:Stereotactic Radiation Therapy:  Updates in Tumor Targeting and Clinical Utility
DESCRIPTION:Join friends and colleagues to hear from Dr. Kelsey Pohlman on the newest information on tumor targeting using radiation therapy.  Add in a great dinner with a view and you can’t go wrong!
URL:https://cincyvma.com/event/stereotactic-radiation-therapy-updates-in-tumor-targeting-and-clinical-utility/
LOCATION:Montgomery Inn Boathouse\, 925 Riverside Dr.\, Cincinnati\, OH\, 45202\, United States
END:VEVENT
BEGIN:VEVENT
DTSTART;TZID=UTC:20170328T181500
DTEND;TZID=UTC:20170328T210000
DTSTAMP:20260424T031115
CREATED:20161222T182947Z
LAST-MODIFIED:20161222T182947Z
UID:474-1490724900-1490734800@cincyvma.com
SUMMARY:March 28\, 2017 Reproductive Emergencies & Neonatal Care
DESCRIPTION:  \nJoin us to hear from Erin Runcan\, DVM\, DACT\, who will discuss Reproductive Emergencies and Neonatal Care. We will meet up downtown at the Moerlein Lager House on the Banks. Registration opens at 6:15 pm\, dinner is at 6:45\, & lecture from 6-9 pm. \n  \n 
URL:https://cincyvma.com/event/march-28-2017-reproductive-emergencies-neonatal-care/
LOCATION:Moerlein Lager House\, 115 Joe Nuxhall Way\, Cincinnati\, OH\, 45202\, United States
END:VEVENT
BEGIN:VEVENT
DTSTART;TZID=UTC:20170124T181500
DTEND;TZID=UTC:20170124T210000
DTSTAMP:20260424T031115
CREATED:20161222T181903Z
LAST-MODIFIED:20161231T194356Z
UID:471-1485281700-1485291600@cincyvma.com
SUMMARY:Jan. 24\, 2017-- Canine Separation Anxiety & Feline House Soiling Behavior
DESCRIPTION:Join us to hear from Behavioral Specialist Sara Bennett\, DVM\, DACVB for two hours of CE focused on Canine Separation Anxiety and Feline House Soiling. Dinner should also be great. We will be meeting at Eddie Merlot’s\, just north of Cincinnati for a warm and hearty dinner. Registration opens at 6:15 pm\, dinner is at 6:45\, & lecture from 6-9 pm! \n \n 
URL:https://cincyvma.com/event/jan-24-2017-sara-bennett-dvm-dacvb/
LOCATION:Eddie Merlot’s\, 10808 Montgomery Rd.\, Cincinnati\, OH\, 45242\, United States
END:VEVENT
BEGIN:VEVENT
DTSTART;TZID=UTC:20161115T181500
DTEND;TZID=UTC:20161115T210000
DTSTAMP:20260424T031115
CREATED:20161030T173453Z
LAST-MODIFIED:20161030T181242Z
UID:431-1479233700-1479243600@cincyvma.com
SUMMARY:Tuesday Night CE
DESCRIPTION:Join local critical care and emergency specialist Rachel Halpin\, DVM\, DAVECC\, for two hours of CE focused on the newest recommendations concerning canine and feline CPR as well as best practices in treating acute abdominal emergencies. \nWe’re meeting at the beautiful Voice of America Park-Ronald Reagan Lakeview Lodge.  VOA Park is in West Chester located right off of I-75.    Dinner will be served as usual so bring your appetite and cash bar will be available.
URL:https://cincyvma.com/event/tuesday-night-ce/
LOCATION:Voice of America Park–Ronald Reagan Lodge-Lakeview Room\, 7850 VOA Park Drive\, West Chester\, 45069\, United States
CATEGORIES:Continuing Education
END:VEVENT
BEGIN:VEVENT
DTSTART;VALUE=DATE:20161113
DTEND;VALUE=DATE:20161114
DTSTAMP:20260424T031115
CREATED:20161030T190910Z
LAST-MODIFIED:20161030T190910Z
UID:448-1478995200-1479081599@cincyvma.com
SUMMARY:Miami Valley November Seminar
DESCRIPTION:Option A \nSpeakers: \n\n8:30 a.m. Registration\, Continental Breakfast & Vendors\n9:00 a.m. – 11:00 a.m. Dr. Habing\, Normal Ultrasound Structures & Optimizing Acquisition of Images\nNoon – 4:00 p.m. Dr. Eric Hostnick & Dr. Amy Schkeeper\, Diagnosis of Cardiac Disease and Abdominal Masses/Gastrointestinal Diseases\n\n\nFee: Lunch is included\n\nMVVMA Members: $175.00 / Non-Members: $225.00\n\n\nFee After November 7: Lunch is included\n\nMVVMA Members: $225.00  /  Non-Members: $275.00\n\nOption B \n\nSchedule: \n\n8:30 a.m. Registration\, Continental Breakfast & Vendors\n9:00 a.m. – 11:00 a.m. Attendees will attend a.m. group lecture with Dr. Habing and then break for lunch\nNoon – 4:00 p.m. Group Instruction and Application of Ultrasound to Sedated Dogs\n\nFee: Lunch is included \n\nMVVMA Members: $550.00 / Non-Members: $650.00\n\nFee After November 7:  Lunch is included \n\nMVVMA Members: 600.00 / Non-Members: $700.00\n\nOption C:  Technicians \n\n\n\n\n\n\n\n\n\n\n3 CE Credits \n\n\n\n\n\n\n\n\n\n\n\n\n\n\n\n\n\n\n\n\n\n\n\n\n\nSchedule: \n\n8:30 a.m. Registration\, Continental Breakfast & Vendors\n9:00 a.m. – 12:00 p.m. CARE Center Technicians: Ultrasound for Technicians\, Triage for Technicians\, Nursing Care for the Inpatient. (Lunch is not included)\n\nFee:  $50.00 \n\nFee After November 7: $65.00
URL:https://cincyvma.com/event/miami-valley-november-seminar/
LOCATION:Mandalay Banquet Center\,  2700 E River Rd\, Moraine\, OH\, 45439\, United States
END:VEVENT
BEGIN:VEVENT
DTSTART;TZID=UTC:20160927T181500
DTEND;TZID=UTC:20160927T210000
DTSTAMP:20260424T031115
CREATED:20160813T004600Z
LAST-MODIFIED:20160813T005111Z
UID:406-1475000100-1475010000@cincyvma.com
SUMMARY:September 27\, 2016
DESCRIPTION:Join CVMA colleagues to hear from DJ Hauessler\, Jr.\, DVM\, DACVO. Join us for a beautiful view of the city\, a great meal\, and 2 hours CE . Dr. Hauessler will discuss how “All Ulcers Are Not Created Equal: Understanding the Nuances of Canine Ulcerative Keratitis.”
URL:https://cincyvma.com/event/september-27-2016/
LOCATION:Drees Pavilion/Devou Park\, 790 Park Ln.\, Covington\, KY\, 41011\, United States
END:VEVENT
BEGIN:VEVENT
DTSTART;TZID=UTC:20160605T173000
DTEND;TZID=UTC:20160605T200000
DTSTAMP:20260424T031115
CREATED:20160520T225416Z
LAST-MODIFIED:20160520T225416Z
UID:379-1465147800-1465156800@cincyvma.com
SUMMARY:CVMA New Grad Welcome & Happy Hour!
DESCRIPTION:NEW GRAD WELCOME & HAPPY HOUR!\nSave the date~June 5\n\nPlease join the CVMA in welcoming the new veterinary graduates to Cincinnati at a CVMA Happy Hour at the Sand Bar.  It will be a lovely night of catching up and making connections over some cocktails and great bar food overlooking the beautiful Ohio.   Come out for a great time\, enjoy the summer night\, and welcome our new veterinary colleagues to Cincinnati!\n \nRSVP:  Not necessary – please come if you can\, but if you know you are coming\, please email Susanna Schwartz at sschwartz@medvetforpets.com so we can reserve tables.
URL:https://cincyvma.com/event/cvma-new-grad-welcome-happy-hour/
LOCATION:The Sandbar\, 4609 KelloggAvenue\, Cincinnati\, OH\, 45226\, United States
CATEGORIES:Social/Networking
END:VEVENT
BEGIN:VEVENT
DTSTART;TZID=UTC:20160524T181500
DTEND;TZID=UTC:20160524T210000
DTSTAMP:20260424T031115
CREATED:20160423T151527Z
LAST-MODIFIED:20160423T152241Z
UID:363-1464113700-1464123600@cincyvma.com
SUMMARY:May 24\, 2016
DESCRIPTION:Speaker: Jason W. Stull\, VMD\, MPVM\, PhD\, Diplomate ACVPM\n\n\n\n\n\n\n\n\n\n\n\n\n\n\nTopic: Zoonotic Diseases/Nosocomial Infections\n\n\n\n\nTime:\n\n6:15 p.m. Registration Opens\n6:45 p.m. Dinner Service/Business Meeting\n7-9 p.m.  Lecture\n\nEvent Location:\nPaul Brown Stadium\, 1 Paul Brown Stadium\, Cincinnati\, OH 45202.  Parking information/directions will be sent separately to all registrants. 
URL:https://cincyvma.com/event/may-24-2016/
CATEGORIES:Continuing Education
END:VEVENT
BEGIN:VEVENT
DTSTART;TZID=UTC:20160322T181500
DTEND;TZID=UTC:20160322T210000
DTSTAMP:20260424T031115
CREATED:20160228T162504Z
LAST-MODIFIED:20160228T162504Z
UID:340-1458670500-1458680400@cincyvma.com
SUMMARY:Tuesday Night CE: Dermatology
DESCRIPTION:Speaker: \nPaul Bloom\, DVM\, DACVD\, DABVP \n\nRegister Now!\n\nRegister for this event here. \nSo we can plan appropriately\, please RSVP by Wednesday\, March 15\, 2016.
URL:https://cincyvma.com/event/tuesday-night-ce-dermatology/
LOCATION:Donauschwaben House\, 4290 Dry Ridge Road\, Cincinnati \, 45252\, United States
CATEGORIES:Continuing Education
END:VEVENT
BEGIN:VEVENT
DTSTART;TZID=America/New_York:20160126T181500
DTEND;TZID=America/New_York:20160126T210000
DTSTAMP:20260424T031115
CREATED:20160113T005303Z
LAST-MODIFIED:20160113T010036Z
UID:330-1453832100-1453842000@cincyvma.com
SUMMARY:January 26\, 2016
DESCRIPTION:Register now!  \nTopic:  “Approach to Respiratory Distress ” (1 CE)\n& “An Update on Cushings Disease” (1 CE) \nSpeaker:\nJulie Trzil\, DVM\, MS\, DACVIM-SAIM \nTime:  \n6:15 p.m. Registration Opens\n6:45 p.m. Dinner Service/Business Meeting\n7-9 p.m.  Lecture\n\nEvent Location:\nSeasons 52 (Rookwood)\n3819 Edwards Rd\, Cincinnati\, OH 45209 \n  \nPLEASE RSVP BY:   \nWednesday\, January 20\, 2016 \n 
URL:https://cincyvma.com/event/january-26-2016/
LOCATION:Seasons 52\, 3819 Edwards Rd\, Cincinnati \, OH\, 45209\, United States
END:VEVENT
BEGIN:VEVENT
DTSTART;VALUE=DATE:20151129
DTEND;VALUE=DATE:20160101
DTSTAMP:20260424T031115
CREATED:20151129T175530Z
LAST-MODIFIED:20151129T175530Z
UID:304-1448755200-1451606399@cincyvma.com
SUMMARY:2016 CVMA Tuesday Night CE Schedule
DESCRIPTION:Your CVMA Program Committee is working on the 2016 CE Schedule and we’ll post further information later this month. \n 
URL:https://cincyvma.com/event/2016-cvma-tuesday-night-ce-schedule/
END:VEVENT
BEGIN:VEVENT
DTSTART;TZID=UTC:20151117T181500
DTEND;TZID=UTC:20151117T210000
DTSTAMP:20260424T031115
CREATED:20151109T220426Z
LAST-MODIFIED:20151109T220426Z
UID:280-1447784100-1447794000@cincyvma.com
SUMMARY:Obesity Management & Unconventional Diets
DESCRIPTION:Topic: Obesity Management & Unconventional Diets \nRegister Now! \nSpeaker: Valerie Parker\, DVM\, DACVIM \n\n\n\nLocation:\n\n\nAmerican Sign Museum\n1330 Monmouth Ave\, Cincinnati\, OH 45225\n\nSchedule:\n\n6:15 pm Registration opens\n6:45 pm Dinner service begins\n7-9:00 pm Lecture
URL:https://cincyvma.com/event/obesity-management-unconventional-diets/
END:VEVENT
BEGIN:VEVENT
DTSTART;TZID=UTC:20151018T070000
DTEND;TZID=UTC:20151018T150000
DTSTAMP:20260424T031115
CREATED:20150725T204201Z
LAST-MODIFIED:20151011T153107Z
UID:163-1445151600-1445180400@cincyvma.com
SUMMARY:2015 Fall Short Course
DESCRIPTION:This year’s program is focused on Surgical and Wellness topics. You can earn up to 6 credit hours of continuing education. This year’s lineup includes Stephen J. Birchard\, DVM\, MS\, DACVS. He will focus on surgery topics including gastropexies\, oncologic surgery\, and reconstruction of surgical wounds (4 CE available). \nCVMA is also pleased to welcome Jennifer Brandt\, PhD\, MSW\, will speak on Compassion Fatigue: Caring Until it Hurts. This interactive workshop is designed to help those in veterinary practice learn coping skills to manage the distress from over-emphasis on caring for clients and patients and under-emphasis on care of self (2 CE available). \nFinally\, CVMA is pleased to be offering CE for veterinary technicians as part of the day as well. Jennifer Brandt\, noted above\, will discuss Communication within the Veterinary Healthcare Team: That’s Easy For You to Say! and compassion fatigue (2 CE available). Then\, Ashley Wiese\, DVM\, MS\, DAVCAA\, will provide 2 CE hours on anesthesia and post-operative care (2 CE available). \nFor more information\, including pricing and a schedule of the day’s events\, download the Short Course 2015 Brochure.
URL:https://cincyvma.com/event/2015-fall-short-course/
LOCATION:Great Wolf Lodge\, 2501 Great Wolf Dr.\, Mason\, OH\, 45040\, United States
CATEGORIES:Continuing Education
END:VEVENT
BEGIN:VEVENT
DTSTART;TZID=UTC:20150922T181500
DTEND;TZID=UTC:20150922T210000
DTSTAMP:20260424T031115
CREATED:20150717T020333Z
LAST-MODIFIED:20150818T011558Z
UID:140-1442945700-1442955600@cincyvma.com
SUMMARY:Canine & Feline Enrichment
DESCRIPTION:Dr. Meghan Herron\, DVM\, DACVB\, works in the Department of Veterinary Clinical Sciences and is the current head of the Behavioral Medicine Clinic at Ohio State University Veterinary Medical Center. She provides behavioral rehabilitation services to owners of companion animals with issues including\, but not limited to\, human-directed aggression\, inter-pet aggression\, separation anxiety\, inappropriate elimination\, fears\, phobias\, compulsive behaviours and cognitive dysfunction.
URL:https://cincyvma.com/event/canine-feline-enrichment/
LOCATION:Maggiano’s Little Italy (Kenwood)\, 7875 Montgomery Rd\, Cincinnati\, OH\, 45236\, United States
CATEGORIES:Continuing Education
ORGANIZER;CN="Vetoquinol":MAILTO:d@a.co
END:VEVENT
BEGIN:VEVENT
DTSTART;TZID=UTC:20150326T190000
DTEND;TZID=UTC:20150326T210000
DTSTAMP:20260424T031115
CREATED:20150717T015616Z
LAST-MODIFIED:20150717T015616Z
UID:137-1427396400-1427403600@cincyvma.com
SUMMARY:Equine Infectious Diseases\, Vaccinations\, and Biosecurity"
DESCRIPTION:Hosted by the Hamilton County Ohio Horseman’s Council \nInternational speaker  Dr. Wendy Vaala\, VMD\, DACVIM Senior Technical Services Veterinarian for Merck Animal Health Equine will be speaking on “Equine Infectious Diseases\, Vaccinations\, and Biosecurity on Thursday\, March 26  7:00-9:00PM at the Fernald Preserve. \nDon’t miss this opportunity to hear a leading authority speak on equine infectious diseases and equine vaccines   All are invited to attend (members and non-members of Ohio Horseman’s Council)\, there is no cost to attend this program\, and please RSVP to Ann Frederick at 513-353-4744 or mafvet2@gmail.com to reserve your spot and provide Merck with an accurate number of participants.
URL:https://cincyvma.com/event/equine-infectious-diseases-vaccinations-and-biosecurity/
LOCATION:Fernald Preserve\, 7400 Willey Rd\, Harrison\, OH\, 45303\, United States
CATEGORIES:Continuing Education
END:VEVENT
BEGIN:VEVENT
DTSTART;TZID=UTC:20150307T100000
DTEND;TZID=UTC:20150307T110000
DTSTAMP:20260424T031115
CREATED:20150717T015210Z
LAST-MODIFIED:20150717T015325Z
UID:134-1425722400-1425726000@cincyvma.com
SUMMARY:How to Grow Your Practice with Better Online Strategies
DESCRIPTION:Keith Johnson\, Founder of Petbrosia\, will be discussing “How to Grow Your Practice with Better Online Strategies.”  Attendees will gain a framework for how to create and maintain a digitally enhanced business. It is approved for 1 hour of continuing education.
URL:https://cincyvma.com/event/how-to-grow-your-practice-with-better-online-strategies/
LOCATION:Cincinnati Veterinary Medical Association\, 1415 Central Parkway\, Cincinnati\, OH\, 45202\, United States
CATEGORIES:Continuing Education
END:VEVENT
END:VCALENDAR