BEGIN:VCALENDAR
VERSION:2.0
PRODID:-//Cincinnati Veterinary Medical Association - ECPv6.13.2.1//NONSGML v1.0//EN
CALSCALE:GREGORIAN
METHOD:PUBLISH
X-WR-CALNAME:Cincinnati Veterinary Medical Association
X-ORIGINAL-URL:https://cincyvma.com
X-WR-CALDESC:Events for Cincinnati Veterinary Medical Association
REFRESH-INTERVAL;VALUE=DURATION:PT1H
X-Robots-Tag:noindex
X-PUBLISHED-TTL:PT1H
BEGIN:VTIMEZONE
TZID:UTC
BEGIN:STANDARD
TZOFFSETFROM:+0000
TZOFFSETTO:+0000
TZNAME:UTC
DTSTART:20260101T000000
END:STANDARD
END:VTIMEZONE
BEGIN:VEVENT
DTSTART;TZID=UTC:20260526T173000
DTEND;TZID=UTC:20260526T210000
DTSTAMP:20260423T111137
CREATED:20260301T173928Z
LAST-MODIFIED:20260409T221005Z
UID:1720-1779816600-1779829200@cincyvma.com
SUMMARY:Tuesday Night CE - May
DESCRIPTION:Join us for our next\, in-person CE event on Tuesday\, May 26th at MadTree Parks & Rec in Summit Park. \nWe will be joined by Nicholas Jew\, DVM\, DABVP (Reptile & Amphibian Practice) as he speaks on Exotic Animal Anesthesia and Analgesia. \nThis event is open to DVMs only. 2 hours of Ohio and Kentucky-state approved CE credit available. \nThe event will begin at 5:30pm for happy hour\, with dinner being served at 6:30pm\, and the lecture beginning at 7pm. \nRegistration is required. Please register prior to May 11th to ensure your spot!
URL:https://cincyvma.com/event/tuesday-night-ce-may-3/
LOCATION:MadTree Parks & Rec + Event Spaces\, 4321 Glendale Milford Rd\, Blue Ash\, OH\, 45242\, United States
END:VEVENT
BEGIN:VEVENT
DTSTART;TZID=UTC:20260922T173000
DTEND;TZID=UTC:20260922T210000
DTSTAMP:20260423T111137
CREATED:20260301T174023Z
LAST-MODIFIED:20260301T174023Z
UID:1722-1790098200-1790110800@cincyvma.com
SUMMARY:Tuesday Night CE - September
DESCRIPTION:Save the date for our September CE event – Tuesday\, September 2nd!
URL:https://cincyvma.com/event/tuesday-night-ce-september-3/
LOCATION:OH
END:VEVENT
BEGIN:VEVENT
DTSTART;TZID=UTC:20261124T190000
DTEND;TZID=UTC:20261124T210000
DTSTAMP:20260423T111137
CREATED:20260301T174112Z
LAST-MODIFIED:20260301T174138Z
UID:1724-1795546800-1795554000@cincyvma.com
SUMMARY:Tuesday Night CE - November
DESCRIPTION:Save the date for our November CE event – Tuesday\, November 24th!
URL:https://cincyvma.com/event/tuesday-night-ce-november-3/
LOCATION:OH
END:VEVENT
END:VCALENDAR